BEGIN:VCALENDAR
VERSION:2.0
PRODID:-//InvisionCommunity Events 4.7.22//EN
METHOD:PUBLISH
CALSCALE:GREGORIAN
REFRESH-INTERVAL:PT15M
X-PUBLISHED-TTL:PT15M
X-WR-CALNAME:Community Calendar
NAME:Community Calendar
BEGIN:VTIMEZONE
TZID:Europe/London
TZURL:http://tzurl.org/zoneinfo/Europe/London
X-LIC-LOCATION:Europe/London
BEGIN:DAYLIGHT
TZOFFSETFROM:+0000
TZOFFSETTO:+0100
TZNAME:BST
DTSTART:20200329T020000Z
RRULE:FREQ=YEARLY;BYMONTH=3;BYDAY=-1SU
END:DAYLIGHT
BEGIN:STANDARD
TZOFFSETFROM:+0100
TZOFFSETTO:+0000
TZNAME:GMT
DTSTART:20201025T020000Z
RRULE:FREQ=YEARLY;BYMONTH=10;BYDAY=-1SU
END:STANDARD
END:VTIMEZONE
BEGIN:VEVENT
SUMMARY:UC Cars and Coffee
DTSTAMP:20200814T002646Z
SEQUENCE:0
UID:225-1-ad75e34952f7319871233f7ddcbf7460@cincyriders.com
ORGANIZER;CN="roarbot":admin@cincyriders.com
DESCRIPTION:\n\n	East Lot\n\n\n\n	https://www.instagram.com/p/CDFHStIDYU
	s/?utm_source=ig_web_copy_link\n\n
DTSTART:20200830T150000Z
DTEND:20200830T170000Z
ATTENDEE;CN="GPJake";CUTYPE=INDIVIDUAL;PARTSTAT=ACCEPTED:adm
	in@cincyriders.com
ATTENDEE;CN="roarbot";CUTYPE=INDIVIDUAL;PARTSTAT=ACCEPTED:ad
	min@cincyriders.com
ATTENDEE;CN="Benjamelon";CUTYPE=INDIVIDUAL;PARTSTAT=ACCEPTED
	:admin@cincyriders.com
ATTENDEE;CN="Ma5terCan3";CUTYPE=INDIVIDUAL;PARTSTAT=ACCEPTED
	:admin@cincyriders.com
END:VEVENT
END:VCALENDAR
