BEGIN:VCALENDAR
VERSION:2.0
PRODID:-//InvisionCommunity Events 4.7.22//EN
METHOD:PUBLISH
CALSCALE:GREGORIAN
REFRESH-INTERVAL:PT15M
X-PUBLISHED-TTL:PT15M
X-WR-CALNAME:Community Calendar
NAME:Community Calendar
BEGIN:VTIMEZONE
TZID:Europe/London
TZURL:http://tzurl.org/zoneinfo/Europe/London
X-LIC-LOCATION:Europe/London
BEGIN:DAYLIGHT
TZOFFSETFROM:+0000
TZOFFSETTO:+0100
TZNAME:BST
DTSTART:20200329T020000Z
RRULE:FREQ=YEARLY;BYMONTH=3;BYDAY=-1SU
END:DAYLIGHT
BEGIN:STANDARD
TZOFFSETFROM:+0100
TZOFFSETTO:+0000
TZNAME:GMT
DTSTART:20201025T020000Z
RRULE:FREQ=YEARLY;BYMONTH=10;BYDAY=-1SU
END:STANDARD
END:VTIMEZONE
BEGIN:VEVENT
SUMMARY:UC Cars and Coffee
DTSTAMP:20201015T000016Z
SEQUENCE:0
UID:237-1-ad75e34952f7319871233f7ddcbf7460@cincyriders.com
ORGANIZER;CN="roarbot":admin@cincyriders.com
DESCRIPTION:\n	UC Cars and coffee 11AM-1PM \n\n\n\n	 \n\n\n\n	https://
	www.instagram.com/p/CGP5LfoDXSa/?utm_source=ig_web_copy_link\n
DTSTART:20201018T150000Z
DTEND:20201018T170000Z
END:VEVENT
END:VCALENDAR
