BEGIN:VCALENDAR
VERSION:2.0
PRODID:-//InvisionCommunity Events 4.7.22//EN
METHOD:PUBLISH
CALSCALE:GREGORIAN
REFRESH-INTERVAL:PT15M
X-PUBLISHED-TTL:PT15M
X-WR-CALNAME:Community Calendar
NAME:Community Calendar
BEGIN:VTIMEZONE
TZID:Europe/London
TZURL:http://tzurl.org/zoneinfo/Europe/London
X-LIC-LOCATION:Europe/London
BEGIN:DAYLIGHT
TZOFFSETFROM:+0000
TZOFFSETTO:+0100
TZNAME:BST
DTSTART:20220327T020000Z
RRULE:FREQ=YEARLY;BYMONTH=3;BYDAY=-1SU
END:DAYLIGHT
BEGIN:STANDARD
TZOFFSETFROM:+0100
TZOFFSETTO:+0000
TZNAME:GMT
DTSTART:20221030T020000Z
RRULE:FREQ=YEARLY;BYMONTH=10;BYDAY=-1SU
END:STANDARD
END:VTIMEZONE
BEGIN:VEVENT
SUMMARY:Dayton Cars and Coffee
DTSTAMP:20220409T180651Z
SEQUENCE:0
UID:261-1-ad75e34952f7319871233f7ddcbf7460@cincyriders.com
ORGANIZER;CN="GPJake":admin@cincyriders.com
DESCRIPTION:\n	Dayton Cars and Coffee is driven to bring together the au
	tomotive community through engaging events.\n\n\n\n	 \n\n\n\n	We are prou
	d to be home to one of largest\, consistently attended Cars and Coffee's i
	n the United States.\n\n	With hundreds of cars arriving for each meet\, yo
	u know you’re amongst all the right people.\n\n\n\n	 \n\n\n\n	https://w
	ww.daytoncarsandcoffee.com/\n\n
DTSTART:20220604T120000Z
DTEND:20220604T150000Z
END:VEVENT
END:VCALENDAR
