BEGIN:VCALENDAR
VERSION:2.0
PRODID:-//InvisionCommunity Events 4.7.22//EN
METHOD:PUBLISH
CALSCALE:GREGORIAN
REFRESH-INTERVAL:PT15M
X-PUBLISHED-TTL:PT15M
X-WR-CALNAME:Community Calendar
NAME:Community Calendar
BEGIN:VTIMEZONE
TZID:Europe/London
TZURL:http://tzurl.org/zoneinfo/Europe/London
X-LIC-LOCATION:Europe/London
BEGIN:DAYLIGHT
TZOFFSETFROM:+0000
TZOFFSETTO:+0100
TZNAME:BST
DTSTART:20220327T020000Z
RRULE:FREQ=YEARLY;BYMONTH=3;BYDAY=-1SU
END:DAYLIGHT
BEGIN:STANDARD
TZOFFSETFROM:+0100
TZOFFSETTO:+0000
TZNAME:GMT
DTSTART:20221030T020000Z
RRULE:FREQ=YEARLY;BYMONTH=10;BYDAY=-1SU
END:STANDARD
END:VTIMEZONE
BEGIN:VEVENT
SUMMARY:BBQ Lunch Ride on the \"Northern Kentucky Triangle\"
DTSTAMP:20220422T110004Z
SEQUENCE:0
UID:269-1-ad75e34952f7319871233f7ddcbf7460@cincyriders.com
ORGANIZER;CN="Cincy Riders":admin@cincyriders.com
DESCRIPTION:Greater Cincinnati Motorcyclists\n\nSaturday\, April 23 at 1
	0:30 AM\n\n\n\nCelebrate the first 80 degree day of 2022 with a 94 mile lo
	op along what I call the “Northern Kentucky Triangle” (KY177-KY22-KY10
	) for aBBQ lunch at ...\n\n\n\nhttps://www.meetup.com/greater-cincinnati-m
	otorcyclists/events/285420518/
DTSTART:20220423T143000Z
DTEND:20220423T190000Z
END:VEVENT
END:VCALENDAR
