BEGIN:VCALENDAR
VERSION:2.0
PRODID:-//InvisionCommunity Events 4.7.22//EN
METHOD:PUBLISH
CALSCALE:GREGORIAN
REFRESH-INTERVAL:PT15M
X-PUBLISHED-TTL:PT15M
X-WR-CALNAME:Community Calendar
NAME:Community Calendar
BEGIN:VTIMEZONE
TZID:Europe/London
TZURL:http://tzurl.org/zoneinfo/Europe/London
X-LIC-LOCATION:Europe/London
BEGIN:DAYLIGHT
TZOFFSETFROM:+0000
TZOFFSETTO:+0100
TZNAME:BST
DTSTART:20220327T020000Z
RRULE:FREQ=YEARLY;BYMONTH=3;BYDAY=-1SU
END:DAYLIGHT
BEGIN:STANDARD
TZOFFSETFROM:+0100
TZOFFSETTO:+0000
TZNAME:GMT
DTSTART:20221030T020000Z
RRULE:FREQ=YEARLY;BYMONTH=10;BYDAY=-1SU
END:STANDARD
END:VTIMEZONE
BEGIN:VEVENT
SUMMARY:Weekday Beechmont to Blanchester to Lebanon Ride
DTSTAMP:20220618T024502Z
SEQUENCE:0
UID:274-1-ad75e34952f7319871233f7ddcbf7460@cincyriders.com
ORGANIZER;CN="Cincy Riders":admin@cincyriders.com
DESCRIPTION:Greater Cincinnati Motorcyclists\n\nFriday\, June 24 at 10:0
	0 AM\n\n\n\nRelatively short moderately paced weekday ride. Meet at the UD
	F on SR 125 -- KSU at 10:00am. Ride south to the river then back up north 
	to Blanchester...\n\n\n\nhttps://www.meetup.com/greater-cincinnati-motorcy
	clists/events/286640709/
DTSTART:20220624T140000Z
DTEND:20220624T190000Z
END:VEVENT
END:VCALENDAR
