BEGIN:VCALENDAR
VERSION:2.0
PRODID:-//InvisionCommunity Events 4.7.22//EN
METHOD:PUBLISH
CALSCALE:GREGORIAN
REFRESH-INTERVAL:PT15M
X-PUBLISHED-TTL:PT15M
X-WR-CALNAME:Community Calendar
NAME:Community Calendar
BEGIN:VTIMEZONE
TZID:Europe/London
TZURL:http://tzurl.org/zoneinfo/Europe/London
X-LIC-LOCATION:Europe/London
BEGIN:DAYLIGHT
TZOFFSETFROM:+0000
TZOFFSETTO:+0100
TZNAME:BST
DTSTART:20220327T020000Z
RRULE:FREQ=YEARLY;BYMONTH=3;BYDAY=-1SU
END:DAYLIGHT
BEGIN:STANDARD
TZOFFSETFROM:+0100
TZOFFSETTO:+0000
TZNAME:GMT
DTSTART:20221030T020000Z
RRULE:FREQ=YEARLY;BYMONTH=10;BYDAY=-1SU
END:STANDARD
END:VTIMEZONE
BEGIN:VEVENT
SUMMARY:Ride to Walton\, KY. for north Ohio riders going on Eye of D
	ragonride 
DTSTAMP:20220707T064502Z
SEQUENCE:0
UID:276-1-ad75e34952f7319871233f7ddcbf7460@cincyriders.com
ORGANIZER;CN="Cincy Riders":admin@cincyriders.com
DESCRIPTION:Greater Cincinnati Motorcyclists\n\nSunday\, July 10 at 7:30
	 AM\n\n\n\nTHIS RIDE IS ONLY FOR MEMBERS SIGNED UP FOR THE EYE OF THE DRAG
	ON RIDE. Any northern Ohio riders participating in the Eye of the Dragon r
	ide\, starting...\n\n\n\nhttps://www.meetup.com/greater-cincinnati-motorcy
	clists/events/287019642/
DTSTART:20220710T113000Z
DTEND:20220710T123000Z
END:VEVENT
END:VCALENDAR
