BEGIN:VCALENDAR
VERSION:2.0
PRODID:-//InvisionCommunity Events 4.7.22//EN
METHOD:PUBLISH
CALSCALE:GREGORIAN
REFRESH-INTERVAL:PT15M
X-PUBLISHED-TTL:PT15M
X-WR-CALNAME:Community Calendar
NAME:Community Calendar
BEGIN:VTIMEZONE
TZID:Europe/London
TZURL:http://tzurl.org/zoneinfo/Europe/London
X-LIC-LOCATION:Europe/London
BEGIN:DAYLIGHT
TZOFFSETFROM:+0000
TZOFFSETTO:+0100
TZNAME:BST
DTSTART:20220327T020000Z
RRULE:FREQ=YEARLY;BYMONTH=3;BYDAY=-1SU
END:DAYLIGHT
BEGIN:STANDARD
TZOFFSETFROM:+0100
TZOFFSETTO:+0000
TZNAME:GMT
DTSTART:20221030T020000Z
RRULE:FREQ=YEARLY;BYMONTH=10;BYDAY=-1SU
END:STANDARD
END:VTIMEZONE
BEGIN:VEVENT
SUMMARY:Ohio River Roller Coaster to Maysville (193)
DTSTAMP:20220829T185402Z
SEQUENCE:0
UID:283-1-ad75e34952f7319871233f7ddcbf7460@cincyriders.com
ORGANIZER;CN="Cincy Riders":admin@cincyriders.com
DESCRIPTION:Greater Cincinnati Motorcyclists\n\nWednesday\, August 31 at
	 9:00 AM\n\n\n\nRide the banks of the Ohio river and it's tributaries east
	 to Maysville\, KY for lunch at Delite's. Route length is 193\, with about
	 3 hours to lunch\, a...\n\n\n\nhttps://www.meetup.com/greater-cincinnati-
	motorcyclists/events/288140348/
DTSTART:20220831T130000Z
DTEND:20220831T200000Z
END:VEVENT
END:VCALENDAR
