BEGIN:VCALENDAR
VERSION:2.0
PRODID:-//InvisionCommunity Events 4.7.22//EN
METHOD:PUBLISH
CALSCALE:GREGORIAN
REFRESH-INTERVAL:PT15M
X-PUBLISHED-TTL:PT15M
X-WR-CALNAME:Community Calendar
NAME:Community Calendar
BEGIN:VTIMEZONE
TZID:Europe/London
TZURL:http://tzurl.org/zoneinfo/Europe/London
X-LIC-LOCATION:Europe/London
BEGIN:DAYLIGHT
TZOFFSETFROM:+0000
TZOFFSETTO:+0100
TZNAME:BST
DTSTART:20220327T020000Z
RRULE:FREQ=YEARLY;BYMONTH=3;BYDAY=-1SU
END:DAYLIGHT
BEGIN:STANDARD
TZOFFSETFROM:+0100
TZOFFSETTO:+0000
TZNAME:GMT
DTSTART:20221030T020000Z
RRULE:FREQ=YEARLY;BYMONTH=10;BYDAY=-1SU
END:STANDARD
END:VTIMEZONE
BEGIN:VEVENT
SUMMARY:Cincinnati 32nd Annual Vintage Motorcycle Rally
DTSTAMP:20220910T011031Z
SEQUENCE:0
UID:284-1-ad75e34952f7319871233f7ddcbf7460@cincyriders.com
ORGANIZER;CN="JeremyM":admin@cincyriders.com
DESCRIPTION:\n	https://cincybritishbikes.com/2022-32nd-annual-vintage-mo
	torcycle-rally/\n\n\n\n	Classic British Motorcycle Club of Cincinnati is 
	pleased to announce that the 2022 32nd Annual Vintage Motorcycle Rally wil
	l be held at the Boone County Fairgrounds Burlington\, KY on Sept 9-11th\,
	 2022. Mark your calendars!\n\n\n\n	We are seeking Swap Meet Vendors\, Spo
	nsors\, Motorcycle Dealerships\, Bike Show entries and people to help spre
	ad the word.\n\n\n\n	A 3-day Vintage Motorcycle Show &amp\; Rally hosted b
	y the Classic British Motorcycle Club of Cincinnati. All Makes and Models 
	Bike Show with British\, European\, American\, Japanese\, Competition and 
	Custom classes. New Modern Classics Class 96-Present. Judging on Sunday wi
	th over 30 awards. Swap Meet Vendors\, Motorcycle Dealers\, Parts\, Gear\,
	 Door Prizes and Raffles\, Food Trucks\, Live Music. Vendor Dinner Saturda
	y Evening.\n	\n	$7 per person per day. $10 for weekend. Kids under 12 are 
	Free. Swap Meet Vendor Spots are now FREE with paid admission. Bike Show $
	10 for first bike\, $5 each additional entry. Group Ride on Saturday.\n\n\
	n\n	PROCEEDS GO TO LOCAL CHARITIES!!!!\n\n\n
DTSTART;VALUE=DATE:20220909
DTEND;VALUE=DATE:20220912
END:VEVENT
END:VCALENDAR
