BEGIN:VCALENDAR
VERSION:2.0
PRODID:-//InvisionCommunity Events 4.7.22//EN
METHOD:PUBLISH
CALSCALE:GREGORIAN
REFRESH-INTERVAL:PT15M
X-PUBLISHED-TTL:PT15M
X-WR-CALNAME:Community Calendar
NAME:Community Calendar
BEGIN:VTIMEZONE
TZID:Europe/London
TZURL:http://tzurl.org/zoneinfo/Europe/London
X-LIC-LOCATION:Europe/London
BEGIN:DAYLIGHT
TZOFFSETFROM:+0000
TZOFFSETTO:+0100
TZNAME:BST
DTSTART:20220327T020000Z
RRULE:FREQ=YEARLY;BYMONTH=3;BYDAY=-1SU
END:DAYLIGHT
BEGIN:STANDARD
TZOFFSETFROM:+0100
TZOFFSETTO:+0000
TZNAME:GMT
DTSTART:20221030T020000Z
RRULE:FREQ=YEARLY;BYMONTH=10;BYDAY=-1SU
END:STANDARD
END:VTIMEZONE
BEGIN:VEVENT
SUMMARY:Motocamping
DTSTAMP:20220926T064501Z
SEQUENCE:0
UID:285-1-ad75e34952f7319871233f7ddcbf7460@cincyriders.com
ORGANIZER;CN="Cincy Riders":admin@cincyriders.com
DESCRIPTION:Greater Cincinnati Motorcyclists\n\nSaturday\, October 15 at
	 10:00 AM\n\n\n\nWeather looks pretty good. I updated the point of meet to
	 the above address at 10 am. It’ll be in th high 60’s and will get dow
	n to the high 30’s to 4...\n\n\n\nPrice: 10.00 USD\n\n\n\nhttps://www.me
	etup.com/greater-cincinnati-motorcyclists/events/288721126/
DTSTART:20221015T140000Z
DTEND:20221016T210000Z
END:VEVENT
END:VCALENDAR
