BEGIN:VCALENDAR
VERSION:2.0
PRODID:-//InvisionCommunity Events 4.7.22//EN
METHOD:PUBLISH
CALSCALE:GREGORIAN
REFRESH-INTERVAL:PT15M
X-PUBLISHED-TTL:PT15M
X-WR-CALNAME:Community Calendar
NAME:Community Calendar
BEGIN:VTIMEZONE
TZID:Europe/London
TZURL:http://tzurl.org/zoneinfo/Europe/London
X-LIC-LOCATION:Europe/London
BEGIN:DAYLIGHT
TZOFFSETFROM:+0000
TZOFFSETTO:+0100
TZNAME:BST
DTSTART:20230326T020000Z
RRULE:FREQ=YEARLY;BYMONTH=3;BYDAY=-1SU
END:DAYLIGHT
BEGIN:STANDARD
TZOFFSETFROM:+0100
TZOFFSETTO:+0000
TZNAME:GMT
DTSTART:20231029T020000Z
RRULE:FREQ=YEARLY;BYMONTH=10;BYDAY=-1SU
END:STANDARD
END:VTIMEZONE
BEGIN:VEVENT
SUMMARY:UC Cars And Coffee
DTSTAMP:20230326T180144Z
SEQUENCE:0
UID:293-1-ad75e34952f7319871233f7ddcbf7460@cincyriders.com
ORGANIZER;CN="GPJake":admin@cincyriders.com
DESCRIPTION:\n	\n\n\n\n	\n		The Official Cars and Coffee of UC\n	\n	\n		
	UC Club\, All Welcome.\n	\n	\n		Next Event: March 26th\, 11am-1pm\n	\n	\n	
		Location: 2220 Victory Parkway (East Lot)\n	\n\n
DTSTART:20230326T150000Z
DTEND:20230326T170000Z
ATTENDEE;CN="GPJake";CUTYPE=INDIVIDUAL;PARTSTAT=ACCEPTED:adm
	in@cincyriders.com
ATTENDEE;CN="Atrain";CUTYPE=INDIVIDUAL;PARTSTAT=ACCEPTED:adm
	in@cincyriders.com
ATTENDEE;CN="JeremyM";CUTYPE=INDIVIDUAL;PARTSTAT=ACCEPTED:ad
	min@cincyriders.com
ATTENDEE;CN="Benjamelon";CUTYPE=INDIVIDUAL;PARTSTAT=ACCEPTED
	:admin@cincyriders.com
ATTENDEE;CN="dbartlett0121";CUTYPE=INDIVIDUAL;PARTSTAT=ACCEP
	TED:admin@cincyriders.com
ATTENDEE;CN="Ma5terCan3";CUTYPE=INDIVIDUAL;PARTSTAT=ACCEPTED
	:admin@cincyriders.com
END:VEVENT
END:VCALENDAR
