BEGIN:VCALENDAR
VERSION:2.0
PRODID:-//InvisionCommunity Events 4.7.22//EN
METHOD:PUBLISH
CALSCALE:GREGORIAN
REFRESH-INTERVAL:PT15M
X-PUBLISHED-TTL:PT15M
X-WR-CALNAME:Community Calendar
NAME:Community Calendar
BEGIN:VTIMEZONE
TZID:Europe/London
TZURL:http://tzurl.org/zoneinfo/Europe/London
X-LIC-LOCATION:Europe/London
BEGIN:DAYLIGHT
TZOFFSETFROM:+0000
TZOFFSETTO:+0100
TZNAME:BST
DTSTART:20210328T020000Z
RRULE:FREQ=YEARLY;BYMONTH=3;BYDAY=-1SU
END:DAYLIGHT
BEGIN:STANDARD
TZOFFSETFROM:+0100
TZOFFSETTO:+0000
TZNAME:GMT
DTSTART:20211031T020000Z
RRULE:FREQ=YEARLY;BYMONTH=10;BYDAY=-1SU
END:STANDARD
END:VTIMEZONE
BEGIN:VEVENT
SUMMARY:Ta’bogo Cafe / Cincinnati Cars & Coffee
DTSTAMP:20230416T150528Z
SEQUENCE:0
UID:300-1-ad75e34952f7319871233f7ddcbf7460@cincyriders.com
ORGANIZER;CN="GPJake":admin@cincyriders.com
DESCRIPTION:\n	Enjoy Cars &amp\; Coffee with a delicious cup of coffee t
	ogether with a home made pastry.\n\n
DTSTART:20210415T120000Z
DTEND:20210416T030000Z
RRULE:FREQ=WEEKLY;INTERVAL=1;UNTIL=20240504T000000;BYDAY=SA
END:VEVENT
END:VCALENDAR
