BEGIN:VCALENDAR
VERSION:2.0
PRODID:-//InvisionCommunity Events 4.7.22//EN
METHOD:PUBLISH
CALSCALE:GREGORIAN
REFRESH-INTERVAL:PT15M
X-PUBLISHED-TTL:PT15M
X-WR-CALNAME:Community Calendar
NAME:Community Calendar
BEGIN:VTIMEZONE
TZID:Europe/London
TZURL:http://tzurl.org/zoneinfo/Europe/London
X-LIC-LOCATION:Europe/London
BEGIN:DAYLIGHT
TZOFFSETFROM:+0000
TZOFFSETTO:+0100
TZNAME:BST
DTSTART:20250330T020000Z
RRULE:FREQ=YEARLY;BYMONTH=3;BYDAY=-1SU
END:DAYLIGHT
BEGIN:STANDARD
TZOFFSETFROM:+0100
TZOFFSETTO:+0000
TZNAME:GMT
DTSTART:20251026T020000Z
RRULE:FREQ=YEARLY;BYMONTH=10;BYDAY=-1SU
END:STANDARD
END:VTIMEZONE
BEGIN:VEVENT
SUMMARY:Motocamping hungry mother 
DTSTAMP:20250827T115003Z
SEQUENCE:1
UID:319-1-ad75e34952f7319871233f7ddcbf7460@cincyriders.com
ORGANIZER;CN="Cincy Riders":admin@cincyriders.com
DESCRIPTION:Greater Cincinnati Motorcyclists\n\nI am going to ride down 
	to hungry mother state park in Virginia (you’re invited) on the south si
	de off the ‘back of the dragon’ (va 16) ride some favorite roads aroun
	d the area on Monday and come back Tuesday. A 2 night adventure. There are
	 plenty off yurts\,cabins in thee campground or Marion\,va is 10 mins away
	 fora hotel/motel. I reserved campsite #5 at royal oak campground. Should 
	hold a coupler campers. Plenty off sites available for these dates. Saturd
	ay was full\,so I moved it to a Sunday/Monday.
DTSTART:20250928T123000Z
DTEND:20250930T220000Z
END:VEVENT
END:VCALENDAR
