BEGIN:VCALENDAR
VERSION:2.0
PRODID:-//InvisionCommunity Events 4.7.22//EN
METHOD:PUBLISH
CALSCALE:GREGORIAN
REFRESH-INTERVAL:PT15M
X-PUBLISHED-TTL:PT15M
X-WR-CALNAME:Community Calendar
NAME:Community Calendar
BEGIN:VTIMEZONE
TZID:Europe/London
TZURL:http://tzurl.org/zoneinfo/Europe/London
X-LIC-LOCATION:Europe/London
BEGIN:DAYLIGHT
TZOFFSETFROM:+0000
TZOFFSETTO:+0100
TZNAME:BST
DTSTART:20200329T020000Z
RRULE:FREQ=YEARLY;BYMONTH=3;BYDAY=-1SU
END:DAYLIGHT
BEGIN:STANDARD
TZOFFSETFROM:+0100
TZOFFSETTO:+0000
TZNAME:GMT
DTSTART:20201025T020000Z
RRULE:FREQ=YEARLY;BYMONTH=10;BYDAY=-1SU
END:STANDARD
END:VTIMEZONE
BEGIN:VEVENT
SUMMARY:Comet Bike Night
DTSTAMP:20180927T200758Z
SEQUENCE:0
UID:38-1-ad75e34952f7319871233f7ddcbf7460@cincyriders.com
ORGANIZER;CN="GPJake":admin@cincyriders.com
DESCRIPTION:\n	Info here: https://www.facebook.com/cometbikenight/\n\n
DTSTART:20200505T213000Z
RRULE:FREQ=WEEKLY;INTERVAL=1;BYDAY=TU
ATTENDEE;CN="Whitey21";CUTYPE=INDIVIDUAL;PARTSTAT=ACCEPTED:a
	dmin@cincyriders.com
END:VEVENT
END:VCALENDAR
