BEGIN:VCALENDAR
VERSION:2.0
PRODID:-//InvisionCommunity Events 4.7.22//EN
METHOD:PUBLISH
CALSCALE:GREGORIAN
REFRESH-INTERVAL:PT15M
X-PUBLISHED-TTL:PT15M
X-WR-CALNAME:Community Calendar
NAME:Community Calendar
BEGIN:VTIMEZONE
TZID:Europe/London
TZURL:http://tzurl.org/zoneinfo/Europe/London
X-LIC-LOCATION:Europe/London
BEGIN:DAYLIGHT
TZOFFSETFROM:+0000
TZOFFSETTO:+0100
TZNAME:BST
DTSTART:20180325T020000Z
RRULE:FREQ=YEARLY;BYMONTH=3;BYDAY=-1SU
END:DAYLIGHT
BEGIN:STANDARD
TZOFFSETFROM:+0100
TZOFFSETTO:+0000
TZNAME:GMT
DTSTART:20181028T020000Z
RRULE:FREQ=YEARLY;BYMONTH=10;BYDAY=-1SU
END:STANDARD
END:VTIMEZONE
BEGIN:VEVENT
SUMMARY:Pumpkin Spice Ride
DTSTAMP:20181008T043514Z
SEQUENCE:0
UID:40-1-ad75e34952f7319871233f7ddcbf7460@cincyriders.com
ORGANIZER;CN="wayfarer":admin@cincyriders.com
DESCRIPTION:\n\n	Fall Ride to Wayne Forest. Lunch at Millstone BBQ\, Loo
	p through Wayne Forest up to 555\, stop in Athens for some coffee.\n\n\n\n
		Meet at UDF in Milford\, 9AM Saturday\n\n\n\n	100 Chamber Dr\, Milford\, 
	OH 45150\n\n\n\n	 \n\n\n\n	Leg 1\n\n\n\n	https://a.rever.co/embed/rides/1
	106119\n\n\n\n	 \n\n\n\n	Leg 2\n\n\n\n	https://a.rever.co/embed/rides/110
	6931\n\n\n\n	 \n\n\n\n	We'll plan our return from Athens on the spot base
	d on how everyone is feeling. SR56 up to 71 was recommended. We may take 
	a more direct route if people are tired or stick to state route if people 
	are cold.\n\n\n\n	 \n\n\n\n	Chilly! But doable.\n\n\n\n	https://darksky.n
	et/details/40.4431\,-83.7414/2018-11-3/us12/en\n\n\n\n	 \n\n
DTSTART:20181103T130000Z
DTEND:20181103T220000Z
ATTENDEE;CN="GPJake";CUTYPE=INDIVIDUAL;PARTSTAT=ACCEPTED:adm
	in@cincyriders.com
ATTENDEE;CN="GSXS Bro";CUTYPE=INDIVIDUAL;PARTSTAT=ACCEPTED:a
	dmin@cincyriders.com
ATTENDEE;CN="wayfarer";CUTYPE=INDIVIDUAL;PARTSTAT=ACCEPTED:a
	dmin@cincyriders.com
ATTENDEE;CN="westcoastk";CUTYPE=INDIVIDUAL;PARTSTAT=ACCEPTED
	:admin@cincyriders.com
ATTENDEE;CN="BoltRider";CUTYPE=INDIVIDUAL;PARTSTAT=ACCEPTED:
	admin@cincyriders.com
END:VEVENT
END:VCALENDAR
