BEGIN:VCALENDAR
VERSION:2.0
PRODID:-//InvisionCommunity Events 4.7.22//EN
METHOD:PUBLISH
CALSCALE:GREGORIAN
REFRESH-INTERVAL:PT15M
X-PUBLISHED-TTL:PT15M
X-WR-CALNAME:Community Calendar
NAME:Community Calendar
BEGIN:VTIMEZONE
TZID:Europe/London
TZURL:http://tzurl.org/zoneinfo/Europe/London
X-LIC-LOCATION:Europe/London
BEGIN:DAYLIGHT
TZOFFSETFROM:+0000
TZOFFSETTO:+0100
TZNAME:BST
DTSTART:20180325T020000Z
RRULE:FREQ=YEARLY;BYMONTH=3;BYDAY=-1SU
END:DAYLIGHT
BEGIN:STANDARD
TZOFFSETFROM:+0100
TZOFFSETTO:+0000
TZNAME:GMT
DTSTART:20181028T020000Z
RRULE:FREQ=YEARLY;BYMONTH=10;BYDAY=-1SU
END:STANDARD
END:VTIMEZONE
BEGIN:VEVENT
SUMMARY:Barber Vintage Motorcycle Festival
DTSTAMP:20181204T210632Z
SEQUENCE:0
UID:62-1-ad75e34952f7319871233f7ddcbf7460@cincyriders.com
ORGANIZER;CN="Cincy Riders":admin@cincyriders.com
DESCRIPTION:The largest vintage motorcycle festival in the world.  No r
	eally\, it is the largest and best. Its our “Do Not Miss” event of the
	 year.  Once you go\, you’ll return each year after.  Come to the warm
	 south\, book rooms early\, camping on site (fills up early)\, racing\, sw
	ap meet\, vendors\, racing\, Ace Corner cafe racer\, the largest motorcycl
	e museum anywhere… and some of the best people you’ll ever meet.  Joi
	n us!\n\nOur Shop will be closed this weekend.\n\nTickets: https://www.bar
	bermuseum.org/events/barber-vintage-festival/.
DTSTART;VALUE=DATE:20181004
DTEND;VALUE=DATE:20181008
END:VEVENT
END:VCALENDAR
