BEGIN:VCALENDAR
VERSION:2.0
PRODID:-//InvisionCommunity Events 4.7.22//EN
METHOD:PUBLISH
CALSCALE:GREGORIAN
REFRESH-INTERVAL:PT15M
X-PUBLISHED-TTL:PT15M
X-WR-CALNAME:Community Calendar
NAME:Community Calendar
BEGIN:VTIMEZONE
TZID:Europe/London
TZURL:http://tzurl.org/zoneinfo/Europe/London
X-LIC-LOCATION:Europe/London
BEGIN:DAYLIGHT
TZOFFSETFROM:+0000
TZOFFSETTO:+0100
TZNAME:BST
DTSTART:20180325T020000Z
RRULE:FREQ=YEARLY;BYMONTH=3;BYDAY=-1SU
END:DAYLIGHT
BEGIN:STANDARD
TZOFFSETFROM:+0100
TZOFFSETTO:+0000
TZNAME:GMT
DTSTART:20181028T020000Z
RRULE:FREQ=YEARLY;BYMONTH=10;BYDAY=-1SU
END:STANDARD
END:VTIMEZONE
BEGIN:VEVENT
SUMMARY:Ride With The Society – August
DTSTAMP:20181204T210632Z
SEQUENCE:0
UID:71-1-ad75e34952f7319871233f7ddcbf7460@cincyriders.com
ORGANIZER;CN="Cincy Riders":admin@cincyriders.com
DESCRIPTION:Date Change – Sunday!\n\nThis month’s ride will leave ou
	r shop downtown at 214 E. Liberty Street 45202. Meet at 9AM and kickstands
	 up by 9:30AM. Coffee from Urbana Cafe\, water\, cola\, etc. Ride includes
	 some back country roads in Kentucky and Indiana. We will end at the Wests
	ide Brewery (Have ya been there yet?). Where they will give us $1 off beer
	 for anyone who mentions Piston Society.  And free soda / appetizers prov
	ided by Piston Society as we socialize and tell lies.\n\nThe route is bein
	g worked outand led by Chris Wallbrech a local member of the society with 
	extensive riding knowledge and abilities. Its sure to be a dooozey!\n\nPle
	ase arrive early and with a full tank (Shell fuel station 3 blocks away). 
	All are welcome. Tell your friends\, tell your family!!! Doesn’t matter 
	what you ride as long as it makes you happy!
DTSTART:20180819T130000Z
DTEND:20180819T170000Z
END:VEVENT
END:VCALENDAR
